BEGIN:VCALENDAR
VERSION:2.0
PRODID:-//N.C. Tree Farm Program, Inc. - ECPv6.15.20//NONSGML v1.0//EN
CALSCALE:GREGORIAN
METHOD:PUBLISH
X-ORIGINAL-URL:https://www.nctreefarm.org
X-WR-CALDESC:Events for N.C. Tree Farm Program, Inc.
REFRESH-INTERVAL;VALUE=DURATION:PT1H
X-Robots-Tag:noindex
X-PUBLISHED-TTL:PT1H
BEGIN:VTIMEZONE
TZID:America/New_York
BEGIN:DAYLIGHT
TZOFFSETFROM:-0500
TZOFFSETTO:-0400
TZNAME:EDT
DTSTART:20240310T070000
END:DAYLIGHT
BEGIN:STANDARD
TZOFFSETFROM:-0400
TZOFFSETTO:-0500
TZNAME:EST
DTSTART:20241103T060000
END:STANDARD
BEGIN:DAYLIGHT
TZOFFSETFROM:-0500
TZOFFSETTO:-0400
TZNAME:EDT
DTSTART:20250309T070000
END:DAYLIGHT
BEGIN:STANDARD
TZOFFSETFROM:-0400
TZOFFSETTO:-0500
TZNAME:EST
DTSTART:20251102T060000
END:STANDARD
BEGIN:DAYLIGHT
TZOFFSETFROM:-0500
TZOFFSETTO:-0400
TZNAME:EDT
DTSTART:20260308T070000
END:DAYLIGHT
BEGIN:STANDARD
TZOFFSETFROM:-0400
TZOFFSETTO:-0500
TZNAME:EST
DTSTART:20261101T060000
END:STANDARD
END:VTIMEZONE
BEGIN:VEVENT
DTSTART;TZID=America/New_York:20250807T190000
DTEND;TZID=America/New_York:20250807T203000
DTSTAMP:20260420T045320
CREATED:20250728T180500Z
LAST-MODIFIED:20250728T180500Z
UID:19030-1754593200-1754598600@www.nctreefarm.org
SUMMARY:Planting Design for Wildlife: A Landscape Architect’s Guide to Supporting Wildlife Through Intentional Planting
DESCRIPTION:Join N.C. Wildlife Federation South Wake Conservationists Chapter for a webinar exploring how intentional planting design can support wildlife while meeting human needs. Presented by registered landscape architect Sara Donohoe\, this webinar focuses on integrating ecological function into planting design through creative and practical strategies. \nWith expertise in native and habitat-based planting design\, Sara will demonstrate how techniques like site analysis\, plant layering\, and color blocking can be used to create vibrant\, resilient landscapes. Participants will learn how thoughtful plant selection and spatial organization can provide critical resources for pollinators\, birds\, and other wildlife—all while enhancing the visual appeal and usability of a space. \nThis webinar is designed not only for landscape architects and designers\, but also for gardeners\, conservationists\, and wildlife advocates interested in creating more ecologically supportive landscapes at any scale. Whether you’re designing a park or planting a backyard garden\, this session offers practical tools and inspiring insights to help elevate the ecological impact of your work—while staying rooted in design excellence.
URL:https://www.nctreefarm.org/event/planting-design-for-wildlife-a-landscape-architects-guide-to-supporting-wildlife-through-intentional-planting/
LOCATION:NC
END:VEVENT
END:VCALENDAR